BEGIN:VCALENDAR
VERSION:2.0
PRODID:Events Booking
BEGIN:VEVENT
UID:69eb01ee22447
SUMMARY:Chapter Meeting - September 9\, 2021
DESCRIPTION:Dinner Meeting at Capital City Club
 
 REGISTRATION IS NOW OP
 EN! Click below.
 Topic:&nbsp\;An Introduction to PMBOK Version 7
 Prese
 nter:&nbsp\;&nbsp\;John Dennett\, Past President
 Description of presenta
 tion:
 The presentation will provide and overview of PMBOK version 7 and 
 related digital standards that are linked to the new standard. The present
 ation will involve a comparison of the between PMBOK 6 and its successor t
 hat will provide a highlight as to how PMBOK 7 and its predecessors are in
 terrelated.
  &nbsp\;AGENDA:&nbsp\;
 Capital City Club&nbsp\; &nbsp\; &n
 bsp\; &nbsp\; &nbsp\; &nbsp\; &nbsp\; &nbsp\; &nbsp\; &nbsp\; &nbsp\; &nbs
 p\; &nbsp\; &nbsp\; &nbsp\; &nbsp\; &nbsp\; &nbsp\; &nbsp\; &nbsp\; &nbsp\
 ; &nbsp\; Virtual
 5:45-6:00pm: Check In / Social Chat
 6:00-6:25pm:&nbs
 p\; Dinner&nbsp\; &nbsp\; &nbsp\; &nbsp\; &nbsp\; &nbsp\; &nbsp\; &nbsp\; 
 &nbsp\; &nbsp\; &nbsp\; &nbsp\; &nbsp\; &nbsp\; &nbsp\; &nbsp\; &nbsp\; &n
 bsp\; &nbsp\; &nbsp\; &nbsp\; &nbsp\; &nbsp\; &nbsp\; &nbsp\; &nbsp\; Sign
  in Via Zoom
 6:25-6:30pm:&nbsp\;&nbsp\;President's Comments&nbsp\; &nbsp
 \; &nbsp\; &nbsp\; &nbsp\; &nbsp\; &nbsp\; &nbsp\; &nbsp\; &nbsp\; &nbsp\;
  &nbsp\; &nbsp\; President's Comments
 6:30-7:30pm: Presentation&nbsp\; &
 nbsp\; &nbsp\; &nbsp\; &nbsp\; &nbsp\; &nbsp\; &nbsp\; &nbsp\; &nbsp\; &nb
 sp\; &nbsp\; &nbsp\; &nbsp\; &nbsp\; &nbsp\; &nbsp\; &nbsp\; &nbsp\; &nbsp
 \; &nbsp\; &nbsp\;Presentation
 &nbsp\;
 
 Register:&nbsp\; pmisouthala
 bama.org
 Any questions?&nbsp\;Click here to contact us on the web.
LOCATION:RSA Tower Building\, 201 Monroe St\, Montgomery\, AL 36104\, USA
DTSTART:20210909T230000Z
DTEND:20210910T003000Z
DTSTAMP:20260424T053854Z
ORGANIZER;CN=PMI South Alabama:MAILTO:programs@pmisouthalabama.org
GEO:32.37919;-86.305741
X-APPLE-STRUCTURED-LOCATION;VALUE=URI;X-ADDRESS=RSA Tower Building\, 201 Mo
 nroe St\, Montgomery\, AL 36104\, USA;X-APPLE-RADIUS=72;X-TITLE=Capital Ci
 ty Club:32.37919;-86.305741
END:VEVENT
END:VCALENDAR