BEGIN:VCALENDAR
VERSION:2.0
PRODID:Events Booking
BEGIN:VEVENT
UID:69ea64ae4b453
SUMMARY:PMI 2017 Professional Development Seminar - October 19th
DESCRIPTION:About the seminar
 The South Alabama Chapter of the PMI will h
 old their 2017 Professional Development Seminar in the Gold Room of Whitle
 y Hall on Troy University’s Montgomery campus on&nbsp\;Thursday\, Octobe
 r 19th&nbsp\;from&nbsp\;8:00 AM to 4:30 PM. Our speakers this year will be
  discussing many aspects of project management. Whether you are a seasoned
  veteran or just starting in your project management career\, you will rea
 lly learn a lot from these great speakers. The seminar offers 7 PDUs for a
 ttending.
 &nbsp\;
 
LOCATION:231 Montgomery St\, Montgomery\, AL 36104\, USA
DTSTART:20171019T130000Z
DTEND:20171019T213000Z
DTSTAMP:20260423T182758Z
ORGANIZER;CN=PMI South Alabama:MAILTO:programs@pmisouthalabama.org
GEO:32.376252;-86.31089
X-APPLE-STRUCTURED-LOCATION;VALUE=URI;X-ADDRESS=231 Montgomery St\, Montgom
 ery\, AL 36104\, USA;X-APPLE-RADIUS=72;X-TITLE=Gold Room - Whitley Hall (T
 roy Montgomery):32.376252;-86.31089
END:VEVENT
END:VCALENDAR