BEGIN:VCALENDAR
VERSION:2.0
PRODID:Events Booking
BEGIN:VEVENT
UID:69ea65a6030f4
SUMMARY:Test Event
DESCRIPTION:Test
DTSTART:20240109T160000Z
DTEND:20240109T170000Z
DTSTAMP:20240109T022340Z
ORGANIZER;CN=PMI South Alabama:MAILTO:programs@pmisouthalabama.org
END:VEVENT
END:VCALENDAR